Workbook
Name BuiltIn_Print_Area: #REF!

Sheet Gastos 
A1: =IF(A2=Hoja3!A33,Hoja3!F33,IF(A2=Hoja3!A34,Hoja3!F34,IF(A2=Hoja3!A35,Hoja3!F35,IF(A2=Hoja3!A36,Hoja3!F36)))) -> INVERSIONES PANORAMIA S.A.S
A2: VISSANI
A4: Tipo de liquidación | B4: > VIS TP | D4: Patrimonio de Familia | E4: N.A.
A5: Valor inmueble | B5: 600000000 | D5: CPVM | E5: NO
A6: Valor hipoteca | B6: 420000000 | D6: Afectación a Vivienda Familiar | E6: NO | J6: 142644594 | K6: 0.00668
B7: =IF(B6=0,"Contado","Crédito") -> Crédito
I8: 142644595 | J8: 247250604 | K8: 0.00829
A9: Comprador (es) | D9: Apartamento | I9: 247250605 | J9: 366121415 | K9: 0.00923
D10: Torre | I10: 366121416 | K10: 0.00976
A11: LIQUIDACIÓN ESTIMADA DE GASTOS FIRMA DE ESCRITURA
A13: Impuesto de Beneficencia | E13: =SUM(E14:E17) -> 6022800
A14: Compraventa | E14: =MROUND((B5*1%),100) -> 6000000
A15: Costos administrativos | E15: 22800
A16: Condicion resolutoria CPVM | E16: =IF(E5=Hoja3!A42,Hoja3!B42,0) -> 0
A17: Afectación a vivienda Familiar | E17: =IF(E6=Hoja3!A42,Hoja3!B42,0) -> 0
A18: Impuesto de Registro | E18: =MROUND((SUM(E19:E23)),100) -> 10072300
A19: Hipoteca | E19: =IF(B4=Hoja3!C57,Hoja3!A57,IF(B4=Hoja3!C58,Hoja3!A58)) -> 4099200
A20: Compraventa | E20: =IF(B5>I10,B5*K10,IF(B5>I9,B5*K9,IF(B5>I8,B5*K8,IF(B5<=J6,B5*K6)))) -> 5856000
A21: Conservación y sistematización | E21: =MROUND((E20*2%),100) -> 117100
A22: Condicion resolutoria CPVM | E22: =IF(E5="SI",Hoja3!C42,0) -> 0
A23: Afectación a vivienda Familiar | E23: =IF(E6=Hoja3!A42,Hoja3!C42,0) -> 0
A24: Gastos Notariales | E24: =MROUND(IF(B7=Hoja3!A28,Hoja3!C28,IF(B7=Hoja3!A29,Hoja3!C29)),100) -> 2344700
A27: Total Gastos de Escrirura | E27: =E13+E18+E24 -> 18439800
A29: Otros pagos | D29: Cantidad | E29: Valor
A30: Certificados de libertad | D30: 2 | E30: =D30*18000 -> 36000
A31: Consulta Centrales de Riesgo | D31: 2 | E31: =D31*20000 -> 40000
A32: Anticipo crédito | E32: =(B6*4)/1000 -> 1680000
A33: Impuesto Predial proporcional | E33: 0
A34: Pago Anticipo administración proporcional | E34: 350000
A35: Total otros pagos | E35: =SUM(E30:E34) -> 2106000
A37: Total | D37: =E27+E35 -> 20545800
A39: Saldo a favor
A40: Total a consignar | D40: =D37-D39 -> 20545800
A42: =IF(A2=Hoja3!A33,Hoja3!B33,IF(A2=Hoja3!A34,Hoja3!B34,IF(A2=Hoja3!A35,Hoja3!B35,IF(A2=Hoja3!A36,Hoja3!B36)))) -> Titular: Inversiones Panoramia S.A.S. NIT 900.568.503-6 cuenta de Ahorros 049-290398 del Banco de Bogotá, es necesario que en el endoso (parte posterior) del cheque se escriban los datos del titular del negocio, cédula y número telefónico de contacto, en caso de devolución.

Sheet Hoja3
A2: Venta | B2: ='Gastos '!B5 -> 600000000
A3: Hipoteca | B3: ='Gastos '!B6 -> 420000000
A5: Registro hipoteca 70% | B5: =B3 -> 420000000 | C5: > A VIS
A6: Registro hipoteca 40% | B6: ='Gastos '!E20*40% -> 2342400 | C6: VIS - VIP
A7: Registro hipoteca 10% | B7: ='Gastos '!E20*10% -> 585600 | C7: VIS CON SUBSIDIO
A12: notaria:
B13: Compraventa | C13: =(B2*2)/1000 -> 1200000
B14: Hipoteca: | C14: =(B3*1.3)/1000 -> 546000
A15: Protocolo-Hojas de la matriz | B15: 35 | C15: =B15*2000 -> 70000
A16: 2 Copias de 62 hojas | B16: 92 | C16: =(B16*3000) -> 276000
A17: Copia digital para gobernacion | C17: 6600
A18: 1 Simple de | B18: 35 | C18: =(B18*4000)*0.5 -> 70000
A19: 3 Diligencias | B19: 4 | C19: =2300*B19 -> 9200
A20: Fotocopias | B20: 65 | C20: =B20*400 -> 26000 | F20: INVERSIONES PANORAMIA S.A.S
A21: Auténticaciones | B21: 65 | C21: =B21*1800 -> 117000 | F21: INVERSIONES RESERVA DEL LAGO S.AS.
A22: Patrimonio de familia por ley | C22: 57600 | F22: VISTA CONSTRUCCIONES S.A.S.
A23: Poder copia sustitutiva | C23: 57600 | F23: AMBITO URBANO S.A.S
A24: IVA: | C24: =(SUM(C13:C23))*19/100 -> 462840 | F24: INVERSIONES VISTA 96 S.AS.
A25: Recaudo Superintendencia: | C25: 16000
A26: Fondo Notariado: | C26: 16000
A27: Total Gastos Notariales: | C27: =SUM(C13:C26) -> 2930840
A28: Crédito | C28: =C27*80% -> 2344672
A29: Contado | C29: =C27*60% -> 1758504
A33: VISTA MAYOR | B33: Titular: Vista Construcciones S.A.S. NIT 901-040-044-3 cuenta de Ahorros 049270671 del Banco de Bogotá, es necesario que en el endoso (parte posterior) del cheque se escriban los datos del titular del negocio, cédula y número telefónico de contacto, en caso de devolución. | C33: : | D33: PROMOTORA SENDEROS DEL TINTAL S.A.S | F33: VISTA CONSTRUCCIONES S.A.S.
A34: VISTA 96 | B34: Titular: Inversiones Vista 96 S.A.S. NIT 900.985.658-7 cuenta de Ahorros 049280993 del Banco de Bogotá, es necesario que en el endoso (parte posterior) del cheque se escriban los datos del titular del negocio, cédula y número telefónico de contacto, en caso de devolución. | C34: : | D34: PROMOTORA SENDEROS DEL TINTAL S.A.S | F34: INVERSIONES VISTA 96 S.AS.
A35: VISSANI | B35: Titular: Inversiones Panoramia S.A.S. NIT 900.568.503-6 cuenta de Ahorros 049-290398 del Banco de Bogotá, es necesario que en el endoso (parte posterior) del cheque se escriban los datos del titular del negocio, cédula y número telefónico de contacto, en caso de devolución. | C35: : | D35: PROMOTORA SENDEROS DEL TINTAL S.A.S | F35: INVERSIONES PANORAMIA S.A.S
A36: RESERVA DEL LAGO | B36: Titular: Inversiones Reserva del Lago S.A.S. NIT 900.863.312-0 cuenta de Ahorros 049-XXXXXX del Banco de Bogotá, es necesario que en el endoso (parte posterior) del cheque se escriban los datos del titular del negocio, cédula y número telefónico de contacto, en caso de devolución. | C36: : | D36: PROMOTORA SENDEROS DEL TINTAL S.A.S | F36: INVERSIONES RESERVA DEL LAGO S.AS.
A41: NO
A42: SI | B42: 118000 | C42: 95600
A44: 1
A45: 2
A46: 3
A47: 4
A48: 5
A49: 6
B52: 142644594 | C52: 0.00668
A53: 142644595 | B53: 247250604 | C53: 0.00829
A54: 247250605 | B54: 366121415 | C54: 0.00923
A55: 366121416 | C55: 0.00976
A57: =IF(B3>B54,B3*C55,IF(B3>B53,B3*C54,IF(B3>B52,B3*C53,IF(B3<=B52,B3*C52))))*70% -> 2869440 | B57: 0.7 | C57: > VIS
...
